BEGIN:VCALENDAR
VERSION:2.0
PRODID:-//Plone.org//NONSGML plone.app.event//EN
X-WR-TIMEZONE:Europe/Berlin
BEGIN:VEVENT
SUMMARY:Glaubenssätze und Widerstand - ein Empowerment Schreibworkshop f
 ür BIPoC Studierende
DTSTART;TZID=Europe/Berlin:20231115T163000
DTEND;TZID=Europe/Berlin:20231115T193000
DTSTAMP:20260425T051057Z
UID:0047de8356284d5cab68dfc1ff742632@www.uni-marburg.de
CREATED:20231101T091136Z
DESCRIPTION:https://www.uni-marburg.de/de/universitaet/administration/verw
 altung/stabsstellen/adis/aktuelles/termine/glaubenssaetze-und-widerstand-e
 in-schreibworkshop\n
LAST-MODIFIED:20231101T091726Z
LOCATION:Marburg
URL:https://www.uni-marburg.de/de/universitaet/administration/verwaltung/s
 tabsstellen/adis/aktuelles/termine/glaubenssaetze-und-widerstand-ein-schre
 ibworkshop
END:VEVENT
BEGIN:VTIMEZONE
TZID:Europe/Berlin
X-LIC-LOCATION:Europe/Berlin
BEGIN:STANDARD
DTSTART:20231029T020000
TZNAME:CET
TZOFFSETFROM:+0200
TZOFFSETTO:+0100
END:STANDARD
END:VTIMEZONE
END:VCALENDAR
