BEGIN:VCALENDAR
VERSION:2.0
PRODID:-//Plone.org//NONSGML plone.app.event//EN
X-WR-TIMEZONE:Europe/Berlin
BEGIN:VEVENT
SUMMARY:Impulse für eine antisemitismuskritische Hochschullehre
DTSTART;TZID=Europe/Berlin:20250912T090000
DTEND;TZID=Europe/Berlin:20250912T160000
DTSTAMP:20260425T174225Z
UID:8ff1c096ff8a4b7eb1a6c59ed2462297@www.uni-marburg.de
CREATED:20250709T115641Z
DESCRIPTION:https://www.uni-marburg.de/de/universitaet/administration/verw
 altung/stabsstellen/adis/aktuelles/termine/impulse-fuer-eine-antisemitismu
 skritische-hochschullehre\nWorkshop für Lehrende
LAST-MODIFIED:20250714T121627Z
LOCATION:Online
URL:https://www.uni-marburg.de/de/universitaet/administration/verwaltung/s
 tabsstellen/adis/aktuelles/termine/impulse-fuer-eine-antisemitismuskritisc
 he-hochschullehre
END:VEVENT
BEGIN:VTIMEZONE
TZID:Europe/Berlin
X-LIC-LOCATION:Europe/Berlin
BEGIN:DAYLIGHT
DTSTART:20250330T030000
TZNAME:CEST
TZOFFSETFROM:+0100
TZOFFSETTO:+0200
END:DAYLIGHT
END:VTIMEZONE
END:VCALENDAR
