BEGIN:VCALENDAR
VERSION:2.0
PRODID:-//Plone.org//NONSGML plone.app.event//EN
X-WR-TIMEZONE:Europe/Berlin
BEGIN:VEVENT
SUMMARY:Intersektionale Antidiskriminierung - Erkennen und sich dagegen ei
 nsetzen
DTSTART;TZID=Europe/Berlin:20260327T140000
DTEND;TZID=Europe/Berlin:20260327T190000
DTSTAMP:20260425T214852Z
UID:74b12ee321d442e88bb6d5c5d889053f@www.uni-marburg.de
ATTENDEE;CN="Aylin Kortel";ROLE=REQ-PARTICIPANT:Aylin Kortel
CREATED:20260305T095535Z
DESCRIPTION:https://www.uni-marburg.de/de/universitaet/administration/verw
 altung/stabsstellen/adis/aktuelles/termine/intersektionale-antidiskriminie
 rung-erkennen-und-sich-dagegen-einsetzen\nEin Workshop gegen Diskriminieru
 ng des AdiNet Mittelhessen
LAST-MODIFIED:20260305T095543Z
LOCATION:Raum 1.20\, vhs-Haus\, Bahnhofstraße 3\, 35576 Wetzlar
URL:https://www.uni-marburg.de/de/universitaet/administration/verwaltung/s
 tabsstellen/adis/aktuelles/termine/intersektionale-antidiskriminierung-erk
 ennen-und-sich-dagegen-einsetzen
END:VEVENT
BEGIN:VTIMEZONE
TZID:Europe/Berlin
X-LIC-LOCATION:Europe/Berlin
BEGIN:STANDARD
DTSTART:20251026T020000
TZNAME:CET
TZOFFSETFROM:+0200
TZOFFSETTO:+0100
END:STANDARD
END:VTIMEZONE
END:VCALENDAR
