BEGIN:VCALENDAR
VERSION:2.0
PRODID:-//Plone.org//NONSGML plone.app.event//EN
X-WR-TIMEZONE:Europe/Berlin
BEGIN:VEVENT
SUMMARY:Kick-Off-Veranstaltung Aktionsplan Inklusion
DTSTART;TZID=Europe/Berlin:20251124T090000
DTEND;TZID=Europe/Berlin:20251124T140000
DTSTAMP:20260425T052023Z
UID:a5d584251f514e41ae8ece53fb8d3fad@www.uni-marburg.de
CATEGORIES:()
CREATED:20251031T111237Z
DESCRIPTION:https://www.uni-marburg.de/de/universitaet/administration/verw
 altung/stabsstellen/adis/aktuelles/termine/kick-off-veranstaltung-aktionsp
 lan-inklusion\n
LAST-MODIFIED:20251104T133326Z
LOCATION:Vortragsraum Universitätsbibliothek/ hybrid
URL:https://www.uni-marburg.de/de/universitaet/administration/verwaltung/s
 tabsstellen/adis/aktuelles/termine/kick-off-veranstaltung-aktionsplan-inkl
 usion
END:VEVENT
BEGIN:VTIMEZONE
TZID:Europe/Berlin
X-LIC-LOCATION:Europe/Berlin
BEGIN:STANDARD
DTSTART:20251026T020000
TZNAME:CET
TZOFFSETFROM:+0200
TZOFFSETTO:+0100
END:STANDARD
END:VTIMEZONE
END:VCALENDAR
