BEGIN:VCALENDAR
VERSION:2.0
PRODID:-//Plone.org//NONSGML plone.app.event//EN
X-WR-TIMEZONE:Europe/Berlin
BEGIN:VEVENT
SUMMARY:Klassismus
DTSTART;TZID=Europe/Berlin:20260225T100000
DTEND;TZID=Europe/Berlin:20260225T120000
DTSTAMP:20260424T083336Z
UID:c7c63ad1ce354a04a3a705f11f36f433@www.uni-marburg.de
ATTENDEE;CN="Birol Mertol & Bernadette Möhlen";ROLE=REQ-PARTICIPANT:Birol
  Mertol & Bernadette Möhlen
CATEGORIES:()
CREATED:20251023T145013Z
DESCRIPTION:https://www.uni-marburg.de/de/universitaet/administration/verw
 altung/stabsstellen/adis/aktuelles/termine/klassismus\nWeb-Seminar der Fac
 hstelle Gender & Diversität
LAST-MODIFIED:20251023T145245Z
LOCATION:Online via Zoom
URL:https://www.uni-marburg.de/de/universitaet/administration/verwaltung/s
 tabsstellen/adis/aktuelles/termine/klassismus
END:VEVENT
BEGIN:VTIMEZONE
TZID:Europe/Berlin
X-LIC-LOCATION:Europe/Berlin
BEGIN:STANDARD
DTSTART:20251026T020000
TZNAME:CET
TZOFFSETFROM:+0200
TZOFFSETTO:+0100
END:STANDARD
END:VTIMEZONE
END:VCALENDAR
