BEGIN:VCALENDAR
VERSION:2.0
PRODID:-//Plone.org//NONSGML plone.app.event//EN
X-WR-TIMEZONE:Europe/Berlin
BEGIN:VEVENT
SUMMARY:„Kontinuitäten rechtsextremer Strukturen in der (jungen) Bundes
 republik – Eine ausstehende Konfrontation“
DTSTART;TZID=Europe/Berlin:20251119T183000
DTEND;TZID=Europe/Berlin:20251119T200000
DTSTAMP:20260426T045130Z
UID:55c50924fbdb42b589ce3b2cdaeccdfe@www.uni-marburg.de
ATTENDEE;CN="Franz-Josef Hanke";ROLE=REQ-PARTICIPANT:Franz-Josef Hanke
CREATED:20251113T132338Z
DESCRIPTION:https://www.uni-marburg.de/de/universitaet/administration/verw
 altung/stabsstellen/adis/aktuelles/termine/kontinuitaeten-rechtsextremer-s
 trukturen-in-der-jungen-bundesrepublik-eine-ausstehende-konfrontation\nEin
  Kurs der Volkshochschule Marburg
LAST-MODIFIED:20251113T132348Z
LOCATION:Volkshochschule\, Raum 101 (Deutschhausstr. 38)
URL:https://www.uni-marburg.de/de/universitaet/administration/verwaltung/s
 tabsstellen/adis/aktuelles/termine/kontinuitaeten-rechtsextremer-strukture
 n-in-der-jungen-bundesrepublik-eine-ausstehende-konfrontation
END:VEVENT
BEGIN:VTIMEZONE
TZID:Europe/Berlin
X-LIC-LOCATION:Europe/Berlin
BEGIN:STANDARD
DTSTART:20251026T020000
TZNAME:CET
TZOFFSETFROM:+0200
TZOFFSETTO:+0100
END:STANDARD
END:VTIMEZONE
END:VCALENDAR
