BEGIN:VCALENDAR
VERSION:2.0
PRODID:-//Plone.org//NONSGML plone.app.event//EN
X-WR-TIMEZONE:Europe/Berlin
BEGIN:VEVENT
SUMMARY:Lasst uns leben! Eine Veranstaltungsreihe zu Queerfeindlichkeit
DTSTART;TZID=Europe/Berlin:20260402T190000
DTEND;TZID=Europe/Berlin:20260508T180000
DTSTAMP:20260425T203128Z
UID:06af080eff214638a1e5b44538ffd236@www.uni-marburg.de
CREATED:20260330T110427Z
DESCRIPTION:https://www.uni-marburg.de/de/universitaet/administration/verw
 altung/stabsstellen/adis/aktuelles/termine/lasst-uns-leben-eine-veranstalt
 ungsreihe-zu-queerfeindlichkeit\n
LAST-MODIFIED:20260330T110521Z
LOCATION:Queeres Zentrum und Bekanntgabe nach Anmeldung
URL:https://www.uni-marburg.de/de/universitaet/administration/verwaltung/s
 tabsstellen/adis/aktuelles/termine/lasst-uns-leben-eine-veranstaltungsreih
 e-zu-queerfeindlichkeit
END:VEVENT
BEGIN:VTIMEZONE
TZID:Europe/Berlin
X-LIC-LOCATION:Europe/Berlin
BEGIN:DAYLIGHT
DTSTART:20260329T030000
TZNAME:CEST
TZOFFSETFROM:+0100
TZOFFSETTO:+0200
END:DAYLIGHT
END:VTIMEZONE
END:VCALENDAR
