BEGIN:VCALENDAR
VERSION:2.0
PRODID:-//Plone.org//NONSGML plone.app.event//EN
X-WR-TIMEZONE:Europe/Berlin
BEGIN:VEVENT
SUMMARY:Lesung und Gespräch zum Roman \,\,ISSA'' mit Mirrianne Mahn
DTSTART;TZID=Europe/Berlin:20240701T190000
DTSTAMP:20260425T195600Z
UID:082891a478ed45029bf5aa60248823d1@www.uni-marburg.de
ATTENDEE;CN="Mirrianne Mahn ";ROLE=REQ-PARTICIPANT:Mirrianne Mahn 
CREATED:20240618T091219Z
DESCRIPTION:https://www.uni-marburg.de/de/universitaet/administration/verw
 altung/stabsstellen/adis/aktuelles/termine/lesung-und-gespraech-zum-roman-
 issa-mit-mirrianne-mahn\n
LAST-MODIFIED:20240618T091243Z
LOCATION:Galerie JPG\, Weidenhäusenerstraße 47-49\, 35037 Marburg
URL:https://www.uni-marburg.de/de/universitaet/administration/verwaltung/s
 tabsstellen/adis/aktuelles/termine/lesung-und-gespraech-zum-roman-issa-mit
 -mirrianne-mahn
END:VEVENT
BEGIN:VTIMEZONE
TZID:Europe/Berlin
X-LIC-LOCATION:Europe/Berlin
BEGIN:DAYLIGHT
DTSTART:20240331T030000
TZNAME:CEST
TZOFFSETFROM:+0100
TZOFFSETTO:+0200
END:DAYLIGHT
END:VTIMEZONE
END:VCALENDAR
