BEGIN:VCALENDAR
VERSION:2.0
PRODID:-//Plone.org//NONSGML plone.app.event//EN
X-WR-TIMEZONE:Europe/Berlin
BEGIN:VEVENT
SUMMARY:Stammtisch für LGBTIQ Beschäftigte
DTSTART;TZID=Europe/Berlin:20251104T180000
DTSTAMP:20260426T002441Z
UID:6654420bb9294028b3e40609f40c540a@www.uni-marburg.de
CATEGORIES:()
CREATED:20251029T165238Z
DESCRIPTION:https://www.uni-marburg.de/de/universitaet/administration/verw
 altung/stabsstellen/adis/aktuelles/termine/lgbtiq-stammtisch-fuer-beschaef
 tigte\n
LAST-MODIFIED:20251029T165347Z
LOCATION:Café Franz
URL:https://www.uni-marburg.de/de/universitaet/administration/verwaltung/s
 tabsstellen/adis/aktuelles/termine/lgbtiq-stammtisch-fuer-beschaeftigte
END:VEVENT
BEGIN:VTIMEZONE
TZID:Europe/Berlin
X-LIC-LOCATION:Europe/Berlin
BEGIN:STANDARD
DTSTART:20251026T020000
TZNAME:CET
TZOFFSETFROM:+0200
TZOFFSETTO:+0100
END:STANDARD
END:VTIMEZONE
END:VCALENDAR
