BEGIN:VCALENDAR
VERSION:2.0
PRODID:-//Plone.org//NONSGML plone.app.event//EN
X-WR-TIMEZONE:Europe/Berlin
BEGIN:VEVENT
SUMMARY:Migrantischer Widerstand - Gegen Rassismus\, Faschismus und Unterd
 rückung
DTSTART;TZID=Europe/Berlin:20250415T190000
DTEND;TZID=Europe/Berlin:20250515T190000
DTSTAMP:20260426T053042Z
UID:a48d7ef45773498c9bb6d953fe8add1a@www.uni-marburg.de
ATTENDEE;CN="Gürsel Yıldırım";ROLE=REQ-PARTICIPANT:Gürsel Yıldırım
CREATED:20250415T081847Z
DESCRIPTION:https://www.uni-marburg.de/de/universitaet/administration/verw
 altung/stabsstellen/adis/aktuelles/termine/migrantischer-widerstand-gegen-
 rassismus-faschismus-und-unterdrueckung\n
LAST-MODIFIED:20250415T083250Z
LOCATION:Hessisches Landestheater Marburg (HTML)\, Am Schwanhof 68-72
URL:https://www.uni-marburg.de/de/universitaet/administration/verwaltung/s
 tabsstellen/adis/aktuelles/termine/migrantischer-widerstand-gegen-rassismu
 s-faschismus-und-unterdrueckung
END:VEVENT
BEGIN:VTIMEZONE
TZID:Europe/Berlin
X-LIC-LOCATION:Europe/Berlin
BEGIN:DAYLIGHT
DTSTART:20250330T030000
TZNAME:CEST
TZOFFSETFROM:+0100
TZOFFSETTO:+0200
END:DAYLIGHT
END:VTIMEZONE
END:VCALENDAR
