BEGIN:VCALENDAR
VERSION:2.0
PRODID:-//Plone.org//NONSGML plone.app.event//EN
X-WR-TIMEZONE:Europe/Berlin
BEGIN:VEVENT
SUMMARY:Awareness Nachbesprechung OE 2024
DTSTART;TZID=Europe/Berlin:20241112T160000
DTEND;TZID=Europe/Berlin:20241112T180000
DTSTAMP:20260425T044435Z
UID:0679e65f499641f28a77ff186bee2939@www.uni-marburg.de
ATTENDEE;CN="Katharina Völsch";ROLE=REQ-PARTICIPANT:Katharina Völsch
CREATED:20241030T115451Z
DESCRIPTION:https://www.uni-marburg.de/de/universitaet/administration/verw
 altung/stabsstellen/adis/aktuelles/termine/nachbesprechung-oe-2024\nNachbe
 sprechung der OE mit Fokus Awareness
LAST-MODIFIED:20241111T123044Z
LOCATION:Bahnhofstr. 7
URL:https://www.uni-marburg.de/de/universitaet/administration/verwaltung/s
 tabsstellen/adis/aktuelles/termine/nachbesprechung-oe-2024
END:VEVENT
BEGIN:VTIMEZONE
TZID:Europe/Berlin
X-LIC-LOCATION:Europe/Berlin
BEGIN:STANDARD
DTSTART:20241027T020000
TZNAME:CET
TZOFFSETFROM:+0200
TZOFFSETTO:+0100
END:STANDARD
END:VTIMEZONE
END:VCALENDAR
