BEGIN:VCALENDAR
VERSION:2.0
PRODID:-//Plone.org//NONSGML plone.app.event//EN
X-WR-TIMEZONE:Europe/Berlin
BEGIN:VEVENT
SUMMARY:Netzwerken und Empowerment im Umgang mit antimuslimischem Rassismu
 s
DTSTART;TZID=Europe/Berlin:20251107T150000
DTEND;TZID=Europe/Berlin:20251107T190000
DTSTAMP:20260426T000234Z
UID:025e20db2b08464583af2e731e03e519@www.uni-marburg.de
ATTENDEE;CN="Nurêy Özer";ROLE=REQ-PARTICIPANT:Nurêy Özer
CREATED:20251031T205325Z
DESCRIPTION:https://www.uni-marburg.de/de/universitaet/administration/verw
 altung/stabsstellen/adis/aktuelles/termine/netzwerken-und-empowerment-im-u
 mgang-mit-antimuslimischem-rassismus\nEin Workshop für muslimische Mitarb
 eitende der Reihe "Solidarity Now!"
LAST-MODIFIED:20251031T205332Z
LOCATION:JLU Campus Gießen (genauer Ort wird nach Anmeldung bekanntgegebe
 n)
URL:https://www.uni-marburg.de/de/universitaet/administration/verwaltung/s
 tabsstellen/adis/aktuelles/termine/netzwerken-und-empowerment-im-umgang-mi
 t-antimuslimischem-rassismus
END:VEVENT
BEGIN:VTIMEZONE
TZID:Europe/Berlin
X-LIC-LOCATION:Europe/Berlin
BEGIN:STANDARD
DTSTART:20251026T020000
TZNAME:CET
TZOFFSETFROM:+0200
TZOFFSETTO:+0100
END:STANDARD
END:VTIMEZONE
END:VCALENDAR
