BEGIN:VCALENDAR
VERSION:2.0
PRODID:-//Plone.org//NONSGML plone.app.event//EN
X-WR-TIMEZONE:Europe/Berlin
BEGIN:VEVENT
SUMMARY:Online: Filmvorführung des Kurzfilms „I am what I am“
DTSTART;TZID=Europe/Berlin:20260424T080000
DTEND;TZID=Europe/Berlin:20260424T090000
DTSTAMP:20260426T030737Z
UID:81154bc15cc9453095f024e49724e206@www.uni-marburg.de
CATEGORIES:()
CREATED:20260423T095534Z
DESCRIPTION:https://www.uni-marburg.de/de/universitaet/administration/verw
 altung/stabsstellen/adis/aktuelles/termine/online-filmvorfuehrung-des-kurz
 films-i-am-what-i-am\n
LAST-MODIFIED:20260423T095815Z
LOCATION:online
URL:https://www.uni-marburg.de/de/universitaet/administration/verwaltung/s
 tabsstellen/adis/aktuelles/termine/online-filmvorfuehrung-des-kurzfilms-i-
 am-what-i-am
END:VEVENT
BEGIN:VTIMEZONE
TZID:Europe/Berlin
X-LIC-LOCATION:Europe/Berlin
BEGIN:DAYLIGHT
DTSTART:20260329T030000
TZNAME:CEST
TZOFFSETFROM:+0100
TZOFFSETTO:+0200
END:DAYLIGHT
END:VTIMEZONE
END:VCALENDAR
