BEGIN:VCALENDAR
VERSION:2.0
PRODID:-//Plone.org//NONSGML plone.app.event//EN
X-WR-TIMEZONE:Europe/Berlin
BEGIN:VEVENT
SUMMARY:Online-Vortrag: "Rechtsextremismus als Gefahr für Menschen mit Be
 hinderung"
DTSTART;TZID=Europe/Berlin:20251210T170000
DTEND;TZID=Europe/Berlin:20251210T180000
DTSTAMP:20260426T053057Z
UID:52a41c51b645481ebd9b9495a4bdbc71@www.uni-marburg.de
ATTENDEE;CN="Prof. Michael Zander (Hochschule Magdeburg-Stendal)";ROLE=REQ
 -PARTICIPANT:Prof. Michael Zander (Hochschule Magdeburg-Stendal)
CREATED:20251127T131904Z
DESCRIPTION:https://www.uni-marburg.de/de/universitaet/administration/verw
 altung/stabsstellen/adis/aktuelles/termine/online-vortrag-rechtsextremismu
 s-als-gefahr-fuer-menschen-mit-behinderung\nVortrag im Rahmen der Inklusio
 nstage an der CAU Kiel
LAST-MODIFIED:20251127T132041Z
LOCATION:Online via Zoom
URL:https://www.uni-marburg.de/de/universitaet/administration/verwaltung/s
 tabsstellen/adis/aktuelles/termine/online-vortrag-rechtsextremismus-als-ge
 fahr-fuer-menschen-mit-behinderung
END:VEVENT
BEGIN:VTIMEZONE
TZID:Europe/Berlin
X-LIC-LOCATION:Europe/Berlin
BEGIN:STANDARD
DTSTART:20251026T020000
TZNAME:CET
TZOFFSETFROM:+0200
TZOFFSETTO:+0100
END:STANDARD
END:VTIMEZONE
END:VCALENDAR
