BEGIN:VCALENDAR
VERSION:2.0
PRODID:-//Plone.org//NONSGML plone.app.event//EN
X-WR-TIMEZONE:Europe/Berlin
BEGIN:VEVENT
SUMMARY:Podiumsdiskussion: "Rechtsextremismus auf dem Durchmarsch? Was tun
 ?"
DTSTART;TZID=Europe/Berlin:20250526T183000
DTSTAMP:20260425T042203Z
UID:146c679f984946cea8db8dabff63d1f8@www.uni-marburg.de
ATTENDEE;CN="Sören Bartol (MdB, SPD), Anna Lührmann (MdB, Bündnis 90/Di
 e Grünen), Desiree Becker (MdB, Die Linke), Marco Wanderwitz (CDU), Felix
  Kolb (Campact), Dirk Laabs (Autor)";ROLE=REQ-PARTICIPANT:Sören Bartol (M
 dB, SPD), Anna Lührmann (MdB, Bündnis 90/Die Grünen), Desiree Becker (M
 dB, Die Linke), Marco Wanderwitz (CDU), Felix Kolb (Campact), Dirk Laabs (
 Autor)
CREATED:20250519T093005Z
DESCRIPTION:https://www.uni-marburg.de/de/universitaet/administration/verw
 altung/stabsstellen/adis/aktuelles/termine/podiumsdiskussion-rechtsextremi
 smus-auf-dem-durchmarsch-was-tun\nEine Veranstaltung der Initiative demokr
 atische Zukunft Marburg
LAST-MODIFIED:20250519T093012Z
LOCATION:KFZ Marburg
URL:https://www.uni-marburg.de/de/universitaet/administration/verwaltung/s
 tabsstellen/adis/aktuelles/termine/podiumsdiskussion-rechtsextremismus-auf
 -dem-durchmarsch-was-tun
END:VEVENT
BEGIN:VTIMEZONE
TZID:Europe/Berlin
X-LIC-LOCATION:Europe/Berlin
BEGIN:DAYLIGHT
DTSTART:20250330T030000
TZNAME:CEST
TZOFFSETFROM:+0100
TZOFFSETTO:+0200
END:DAYLIGHT
END:VTIMEZONE
END:VCALENDAR
