BEGIN:VCALENDAR
VERSION:2.0
PRODID:-//Plone.org//NONSGML plone.app.event//EN
X-WR-TIMEZONE:Europe/Berlin
BEGIN:VEVENT
SUMMARY:Pride Lunch für LGBTIQ Beschäftigte
DTSTART;TZID=Europe/Berlin:20250630T120000
DTEND;TZID=Europe/Berlin:20250630T140000
DTSTAMP:20260426T003736Z
UID:28ae953e030d4d3f9bbe1df14d4a0cbb@www.uni-marburg.de
CREATED:20250606T101422Z
DESCRIPTION:https://www.uni-marburg.de/de/universitaet/administration/verw
 altung/stabsstellen/adis/aktuelles/termine/pride-lunch-fuer-lgbtiq-beschae
 ftigte\n
LAST-MODIFIED:20250606T101437Z
LOCATION:Bahnhofstraße 7
URL:https://www.uni-marburg.de/de/universitaet/administration/verwaltung/s
 tabsstellen/adis/aktuelles/termine/pride-lunch-fuer-lgbtiq-beschaeftigte
END:VEVENT
BEGIN:VTIMEZONE
TZID:Europe/Berlin
X-LIC-LOCATION:Europe/Berlin
BEGIN:DAYLIGHT
DTSTART:20250330T030000
TZNAME:CEST
TZOFFSETFROM:+0100
TZOFFSETTO:+0200
END:DAYLIGHT
END:VTIMEZONE
END:VCALENDAR
