BEGIN:VCALENDAR
VERSION:2.0
PRODID:-//Plone.org//NONSGML plone.app.event//EN
X-WR-TIMEZONE:Europe/Berlin
BEGIN:VEVENT
SUMMARY:Promovieren mit Behinderung/inklusive Wissenschaft
DTSTART;TZID=Europe/Berlin:20250313T103000
DTEND;TZID=Europe/Berlin:20250313T120000
DTSTAMP:20260425T141745Z
UID:e37acde1cce040f186078e7f0d15c3ef@www.uni-marburg.de
ATTENDEE;CN="Valentin Ris, Musikwissenschaftler an der Universität Bonn, 
 Stipendiat der Studienstiftung des deutschen Volkes, Mitglied der „Promo
 vierenden-Initiative^' (PI).";ROLE=REQ-PARTICIPANT:Valentin Ris, Musikwiss
 enschaftler an der Universität Bonn, Stipendiat der Studienstiftung des d
 eutschen Volkes, Mitglied der „Promovierenden-Initiative" (PI).
ATTENDEE;CN=;ROLE=REQ-PARTICIPANT:
ATTENDEE;CN="Marius Thienenkamp, seit 2024 wissenschaftlicher Mitarbeiter 
 am Institut für Philosophie und Politikwissenschaft an der TU Dortmund un
 d Promovend im Fachgebiet Philosophie.";ROLE=REQ-PARTICIPANT:Marius Thiene
 nkamp, seit 2024 wissenschaftlicher Mitarbeiter am Institut für Philosoph
 ie und Politikwissenschaft an der TU Dortmund und Promovend im Fachgebiet 
 Philosophie.
ATTENDEE;CN=;ROLE=REQ-PARTICIPANT:
ATTENDEE;CN="Kathrin Röhling, aus dem Dezernat Personal der TU Dortmund."
 ;ROLE=REQ-PARTICIPANT:Kathrin Röhling, aus dem Dezernat Personal der TU D
 ortmund.
CREATED:20250217T122319Z
DESCRIPTION:https://www.uni-marburg.de/de/universitaet/administration/verw
 altung/stabsstellen/adis/aktuelles/termine/promovieren-mit-behinderung-ink
 lusive-wissenschaft\nDigitales Vernetzungstreffen des PROMI-Netzwerk
LAST-MODIFIED:20250217T122445Z
LOCATION:Onlina via Zoom
URL:https://www.uni-marburg.de/de/universitaet/administration/verwaltung/s
 tabsstellen/adis/aktuelles/termine/promovieren-mit-behinderung-inklusive-w
 issenschaft
END:VEVENT
BEGIN:VTIMEZONE
TZID:Europe/Berlin
X-LIC-LOCATION:Europe/Berlin
BEGIN:STANDARD
DTSTART:20241027T020000
TZNAME:CET
TZOFFSETFROM:+0200
TZOFFSETTO:+0100
END:STANDARD
END:VTIMEZONE
END:VCALENDAR
