BEGIN:VCALENDAR
VERSION:2.0
PRODID:-//Plone.org//NONSGML plone.app.event//EN
X-WR-TIMEZONE:Europe/Berlin
BEGIN:VEVENT
SUMMARY:Queere Führung im Jüdischen Museum
DTSTART;TZID=Europe/Berlin:20260129T160000
DTEND;TZID=Europe/Berlin:20260129T173000
DTSTAMP:20260425T214916Z
UID:d7ddc503d6d24bca8ae96035f503fe0c@www.uni-marburg.de
ATTENDEE;CN="Michal Schwartze ist Gymnasiallehrerin für Geschichte und Po
 litik & Wirtschaft und freie Bildungsreferentin und (Bildungs-)Aktivistin 
 zu den Themen Jüdische Religion und Geschichte, interreligiöser Dialog, 
 Jüdische Geschlechtergeschichte und Frauenbewegung, Queere Judentümer so
 wie antisemitismuskritische Bildung. Sie verortet sich im Liberalen Judent
 um.";ROLE=REQ-PARTICIPANT:Michal Schwartze ist Gymnasiallehrerin für Gesc
 hichte und Politik & Wirtschaft und freie Bildungsreferentin und (Bildungs
 -)Aktivistin zu den Themen Jüdische Religion und Geschichte, interreligi
 öser Dialog, Jüdische Geschlechtergeschichte und Frauenbewegung, Queere 
 Judentümer sowie antisemitismuskritische Bildung. Sie verortet sich im Li
 beralen Judentum.
CREATED:20260122T120929Z
DESCRIPTION:https://www.uni-marburg.de/de/universitaet/administration/verw
 altung/stabsstellen/adis/aktuelles/termine/queere-fuehrung-im-juedischen-m
 useum\nFührung zum Internationalen Tag des Gedenkens an die Opfer des Hol
 ocausts
LAST-MODIFIED:20260122T120938Z
LOCATION:Jüdisches Museum (Frankfurt am Main\,Bertha-Pappenheim-Platz 1)
URL:https://www.uni-marburg.de/de/universitaet/administration/verwaltung/s
 tabsstellen/adis/aktuelles/termine/queere-fuehrung-im-juedischen-museum
END:VEVENT
BEGIN:VTIMEZONE
TZID:Europe/Berlin
X-LIC-LOCATION:Europe/Berlin
BEGIN:STANDARD
DTSTART:20251026T020000
TZNAME:CET
TZOFFSETFROM:+0200
TZOFFSETTO:+0100
END:STANDARD
END:VTIMEZONE
END:VCALENDAR
