BEGIN:VCALENDAR
VERSION:2.0
PRODID:-//Plone.org//NONSGML plone.app.event//EN
X-WR-TIMEZONE:Europe/Berlin
BEGIN:VEVENT
SUMMARY:Rechte Raumnahme - was bedeutet das und wie entgegentreten?
DTSTART;TZID=Europe/Berlin:20251105T190000
DTSTAMP:20260426T053104Z
UID:98eb50eb20f64b2bb0441ff4de4dbb67@www.uni-marburg.de
ATTENDEE;CN="Daniel Mullis, Campact";ROLE=REQ-PARTICIPANT:Daniel Mullis, C
 ampact
CREATED:20251020T113248Z
DESCRIPTION:https://www.uni-marburg.de/de/universitaet/administration/verw
 altung/stabsstellen/adis/aktuelles/termine/rechte-raumnahme-was-bedeutet-d
 as-und-wie-entgegentreten\nVortrag aus der Reihe "Hope is a verb! Wie Rech
 tsextremismus Raum nimmt - und wie wir ihn zurückholen"
LAST-MODIFIED:20251020T113256Z
LOCATION:KFZ Marburg (Biegenstr. 13)
URL:https://www.uni-marburg.de/de/universitaet/administration/verwaltung/s
 tabsstellen/adis/aktuelles/termine/rechte-raumnahme-was-bedeutet-das-und-w
 ie-entgegentreten
END:VEVENT
BEGIN:VTIMEZONE
TZID:Europe/Berlin
X-LIC-LOCATION:Europe/Berlin
BEGIN:STANDARD
DTSTART:20251026T020000
TZNAME:CET
TZOFFSETFROM:+0200
TZOFFSETTO:+0100
END:STANDARD
END:VTIMEZONE
END:VCALENDAR
