BEGIN:VCALENDAR
VERSION:2.0
PRODID:-//Plone.org//NONSGML plone.app.event//EN
X-WR-TIMEZONE:Europe/Berlin
BEGIN:VEVENT
SUMMARY:Rechtsextreme Strategien in den sozialen Medien
DTSTART;TZID=Europe/Berlin:20251028T190000
DTSTAMP:20260426T053057Z
UID:8d71e4d9ba5c4e68a4be4b358ab28352@www.uni-marburg.de
ATTENDEE;CN="Lara Franke";ROLE=REQ-PARTICIPANT:Lara Franke
CREATED:20251020T112918Z
DESCRIPTION:https://www.uni-marburg.de/de/universitaet/administration/verw
 altung/stabsstellen/adis/aktuelles/termine/rechtsextreme-strategien-in-den
 -sozialen-medien\nVortrag aus der Reihe "Hope is a verb! Wie Rechtsextremi
 smus Raum nimmt - und wie wir ihn zurückholen"
LAST-MODIFIED:20251020T112924Z
LOCATION:KFZ Marburg (Biegenstr. 13)
URL:https://www.uni-marburg.de/de/universitaet/administration/verwaltung/s
 tabsstellen/adis/aktuelles/termine/rechtsextreme-strategien-in-den-soziale
 n-medien
END:VEVENT
BEGIN:VTIMEZONE
TZID:Europe/Berlin
X-LIC-LOCATION:Europe/Berlin
BEGIN:STANDARD
DTSTART:20251026T020000
TZNAME:CET
TZOFFSETFROM:+0200
TZOFFSETTO:+0100
END:STANDARD
END:VTIMEZONE
END:VCALENDAR
