BEGIN:VCALENDAR
VERSION:2.0
PRODID:-//Plone.org//NONSGML plone.app.event//EN
X-WR-TIMEZONE:Europe/Berlin
BEGIN:VEVENT
SUMMARY:Reden wirkt - Dialogfähig bleiben in herausfordernden Zeiten
DTSTART;TZID=Europe/Berlin:20251119T130000
DTEND;TZID=Europe/Berlin:20251119T143000
DTSTAMP:20260426T033709Z
UID:f3eff71760e14fe68c37b04b76e0d795@www.uni-marburg.de
ATTENDEE;CN="Mo Asumang";ROLE=REQ-PARTICIPANT:Mo Asumang
CREATED:20251023T134726Z
DESCRIPTION:https://www.uni-marburg.de/de/universitaet/administration/verw
 altung/stabsstellen/adis/aktuelles/termine/reden-wirkt-dialogfaehig-bleibe
 n-in-herausfordernden-zeiten\nWeb-Seminar mit Mo Asumang
LAST-MODIFIED:20251023T134734Z
LOCATION:Online via Zoom
URL:https://www.uni-marburg.de/de/universitaet/administration/verwaltung/s
 tabsstellen/adis/aktuelles/termine/reden-wirkt-dialogfaehig-bleiben-in-her
 ausfordernden-zeiten
END:VEVENT
BEGIN:VTIMEZONE
TZID:Europe/Berlin
X-LIC-LOCATION:Europe/Berlin
BEGIN:STANDARD
DTSTART:20251026T020000
TZNAME:CET
TZOFFSETFROM:+0200
TZOFFSETTO:+0100
END:STANDARD
END:VTIMEZONE
END:VCALENDAR
