BEGIN:VCALENDAR
VERSION:2.0
PRODID:-//Plone.org//NONSGML plone.app.event//EN
X-WR-TIMEZONE:Europe/Berlin
BEGIN:VEVENT
SUMMARY:Resist Academia - Empowerment Workshop für BIPoC* Studierende
DTSTART;TZID=Europe/Berlin:20250519T163000
DTEND;TZID=Europe/Berlin:20250519T193000
DTSTAMP:20260424T100055Z
UID:0f383eb3e6de48b7868235eba207063a@www.uni-marburg.de
ATTENDEE;CN="Tarah-Tanita Truderung (sie/ihr) ist eine afro-deutsche Sozia
 larbeiterin, Sozialwissenschaftlerin und Bildungsreferentin mit einem abge
 schlossenen Master in „Pädagogik und Management in der Sozialen Arbeit
 “ aus Köln. ";ROLE=REQ-PARTICIPANT:Tarah-Tanita Truderung (sie/ihr) is
 t eine afro-deutsche Sozialarbeiterin, Sozialwissenschaftlerin und Bildung
 sreferentin mit einem abgeschlossenen Master in „Pädagogik und Manageme
 nt in der Sozialen Arbeit“ aus Köln. 
ATTENDEE;CN="In ihrer Masterarbeit forschte sie zu Widerstandsstrategien g
 egen Rassismus an deutschen Hochschulen. Sie hat zwei Bücher veröffentli
 cht, darunter „Resist Academia“ und „Gehört Aktivismus in die Sozia
 lwissenschaft?“";ROLE=REQ-PARTICIPANT:In ihrer Masterarbeit forschte sie
  zu Widerstandsstrategien gegen Rassismus an deutschen Hochschulen. Sie ha
 t zwei Bücher veröffentlicht, darunter „Resist Academia“ und „Geh
 ört Aktivismus in die Sozialwissenschaft?“
ATTENDEE;CN="Zu ihren Schwerpunkten gehören rassismuskritische Soziale Ar
 beit, intersektionaler Feminismus, Empowerment und dekoloniale Wissens(re)
 produktion. Als Facilitatorin, Referentin und Abolitionistin gestaltet sie
  transformative Räume für diverse Communities, hält Keynotes und Worksh
 ops und moderiert Veranstaltungen, um Machtstrukturen zu hintefragen und s
 oziale Gerechtigkeit voranzutreiben.";ROLE=REQ-PARTICIPANT:Zu ihren Schwer
 punkten gehören rassismuskritische Soziale Arbeit, intersektionaler Femin
 ismus, Empowerment und dekoloniale Wissens(re)produktion. Als Facilitatori
 n, Referentin und Abolitionistin gestaltet sie transformative Räume für 
 diverse Communities, hält Keynotes und Workshops und moderiert Veranstalt
 ungen, um Machtstrukturen zu hintefragen und soziale Gerechtigkeit voranzu
 treiben.
CREATED:20250508T074455Z
DESCRIPTION:https://www.uni-marburg.de/de/universitaet/administration/verw
 altung/stabsstellen/adis/aktuelles/termine/resist-academia\nEntwicklung vo
 n Widerstandsstrategien gegen Rassismus an Hochschulen
LAST-MODIFIED:20250508T080750Z
LOCATION:Ort wird nach Anmeldung unter adis@uni-marburg.de bekannt gegeben
 .
URL:https://www.uni-marburg.de/de/universitaet/administration/verwaltung/s
 tabsstellen/adis/aktuelles/termine/resist-academia
END:VEVENT
BEGIN:VTIMEZONE
TZID:Europe/Berlin
X-LIC-LOCATION:Europe/Berlin
BEGIN:DAYLIGHT
DTSTART:20250330T030000
TZNAME:CEST
TZOFFSETFROM:+0100
TZOFFSETTO:+0200
END:DAYLIGHT
END:VTIMEZONE
END:VCALENDAR
