BEGIN:VCALENDAR
VERSION:2.0
PRODID:-//Plone.org//NONSGML plone.app.event//EN
X-WR-TIMEZONE:Europe/Berlin
BEGIN:VEVENT
SUMMARY:Safer Space & Skillsharing-Workshop für palästinensische Studier
 ende und Studierende mit palästinensischer Familiengeschichte an der Uni 
 Marburg
DTSTART;TZID=Europe/Berlin:20250722T140000
DTEND;TZID=Europe/Berlin:20250722T180000
DTSTAMP:20260426T053001Z
UID:04883ca1336f411db484723ff81d82d3@www.uni-marburg.de
ATTENDEE;CN="Ilham Bani Odeh";ROLE=REQ-PARTICIPANT:Ilham Bani Odeh
CREATED:20250714T123648Z
DESCRIPTION:https://www.uni-marburg.de/de/universitaet/administration/verw
 altung/stabsstellen/adis/aktuelles/termine/safer-space-skillsharing-worksh
 op-fuer-palaestinensische-studierende-und-studierende-mit-palaestinensisch
 er-familiengeschichte-an-der-uni-marburg\nErfahrungen teilen - Empowerment
  leben - Räume gestalten
LAST-MODIFIED:20250714T123725Z
LOCATION:Wird nach Anmeldung bekanntgegeben
URL:https://www.uni-marburg.de/de/universitaet/administration/verwaltung/s
 tabsstellen/adis/aktuelles/termine/safer-space-skillsharing-workshop-fuer-
 palaestinensische-studierende-und-studierende-mit-palaestinensischer-famil
 iengeschichte-an-der-uni-marburg
END:VEVENT
BEGIN:VTIMEZONE
TZID:Europe/Berlin
X-LIC-LOCATION:Europe/Berlin
BEGIN:DAYLIGHT
DTSTART:20250330T030000
TZNAME:CEST
TZOFFSETFROM:+0100
TZOFFSETTO:+0200
END:DAYLIGHT
END:VTIMEZONE
END:VCALENDAR
