BEGIN:VCALENDAR
VERSION:2.0
PRODID:-//Plone.org//NONSGML plone.app.event//EN
X-WR-TIMEZONE:Europe/Berlin
BEGIN:VEVENT
SUMMARY:Selbstverteidigungsworkshop für trans*\, inter* und nicht-binäre
  Personen
DTSTART;TZID=Europe/Berlin:20230527T100000
DTEND;TZID=Europe/Berlin:20230527T163000
DTSTAMP:20260426T042212Z
UID:0b5e3a003df745c7b480b95944176567@www.uni-marburg.de
ATTENDEE;CN="Silas Samland";ROLE=REQ-PARTICIPANT:Silas Samland
CREATED:20230510T084938Z
DESCRIPTION:https://www.uni-marburg.de/de/universitaet/administration/verw
 altung/stabsstellen/adis/aktuelles/termine/selbstverteidigungsworkshop-fue
 r-trans-inter-und-nicht-binaere-personen\n
LAST-MODIFIED:20230511T095531Z
LOCATION:Multifunktionsraum in der Barfüßerstraße 1
URL:https://www.uni-marburg.de/de/universitaet/administration/verwaltung/s
 tabsstellen/adis/aktuelles/termine/selbstverteidigungsworkshop-fuer-trans-
 inter-und-nicht-binaere-personen
END:VEVENT
BEGIN:VTIMEZONE
TZID:Europe/Berlin
X-LIC-LOCATION:Europe/Berlin
BEGIN:DAYLIGHT
DTSTART:20230326T030000
TZNAME:CEST
TZOFFSETFROM:+0100
TZOFFSETTO:+0200
END:DAYLIGHT
END:VTIMEZONE
END:VCALENDAR
