BEGIN:VCALENDAR
VERSION:2.0
PRODID:-//Plone.org//NONSGML plone.app.event//EN
X-WR-TIMEZONE:Europe/Berlin
BEGIN:VEVENT
SUMMARY:Self-Care & Eigenverantwortung in komplexen Zeiten
DTSTART;TZID=Europe/Berlin:20260313T100000
DTEND;TZID=Europe/Berlin:20260313T113000
DTSTAMP:20260425T214642Z
UID:845cee281d2443e1ad1867b5f7acc992@www.uni-marburg.de
ATTENDEE;CN="Helay Safi";ROLE=REQ-PARTICIPANT:Helay Safi
CREATED:20251023T145720Z
DESCRIPTION:https://www.uni-marburg.de/de/universitaet/administration/verw
 altung/stabsstellen/adis/aktuelles/termine/self-care-eigenverantwortung-in
 -komplexen-zeiten\nWeb-Seminar der Fachstelle Gender & Diversität
LAST-MODIFIED:20251023T145729Z
LOCATION:Online via Zoom
URL:https://www.uni-marburg.de/de/universitaet/administration/verwaltung/s
 tabsstellen/adis/aktuelles/termine/self-care-eigenverantwortung-in-komplex
 en-zeiten
END:VEVENT
BEGIN:VTIMEZONE
TZID:Europe/Berlin
X-LIC-LOCATION:Europe/Berlin
BEGIN:STANDARD
DTSTART:20251026T020000
TZNAME:CET
TZOFFSETFROM:+0200
TZOFFSETTO:+0100
END:STANDARD
END:VTIMEZONE
END:VCALENDAR
