BEGIN:VCALENDAR
VERSION:2.0
PRODID:-//Plone.org//NONSGML plone.app.event//EN
X-WR-TIMEZONE:Europe/Berlin
BEGIN:VEVENT
SUMMARY:Soli-Küche - Foodsharing und (Rezept-)Wissensaustausch
DTSTART;TZID=Europe/Berlin:20250709T180000
DTEND;TZID=Europe/Berlin:20250709T200000
DTSTAMP:20260425T215026Z
UID:2fb5bb36adcf4a4386471d792715de7f@www.uni-marburg.de
ATTENDEE;CN="MARA, Marburger Universitätsbund e.V.";ROLE=REQ-PARTICIPANT:
 MARA, Marburger Universitätsbund e.V.
CREATED:20250618T141604Z
DESCRIPTION:https://www.uni-marburg.de/de/universitaet/administration/verw
 altung/stabsstellen/adis/aktuelles/termine/soli-kueche-foodsharing-und-rez
 ept-wissensaustausch\nVeranstaltung aus der Reihe "Eat This - Körper\, (R
 ezept-)Wissen und Kolonialität"
LAST-MODIFIED:20250618T141611Z
LOCATION:Multi Kulti Mini Mensa
URL:https://www.uni-marburg.de/de/universitaet/administration/verwaltung/s
 tabsstellen/adis/aktuelles/termine/soli-kueche-foodsharing-und-rezept-wiss
 ensaustausch
END:VEVENT
BEGIN:VTIMEZONE
TZID:Europe/Berlin
X-LIC-LOCATION:Europe/Berlin
BEGIN:DAYLIGHT
DTSTART:20250330T030000
TZNAME:CEST
TZOFFSETFROM:+0100
TZOFFSETTO:+0200
END:DAYLIGHT
END:VTIMEZONE
END:VCALENDAR
