BEGIN:VCALENDAR
VERSION:2.0
PRODID:-//Plone.org//NONSGML plone.app.event//EN
X-WR-TIMEZONE:Europe/Berlin
BEGIN:VEVENT
SUMMARY:Stadt\, Land\, Queer
DTSTART;TZID=Europe/Berlin:20250906T103000
DTEND;TZID=Europe/Berlin:20250906T170000
DTSTAMP:20260425T053012Z
UID:0f4dbb692d034f4ebc91d20b15f2dfbe@www.uni-marburg.de
CREATED:20250714T134959Z
DESCRIPTION:https://www.uni-marburg.de/de/universitaet/administration/verw
 altung/stabsstellen/adis/aktuelles/termine/stadt-land-queer\nVollversammlu
 ng für hessische Queers
LAST-MODIFIED:20250714T135008Z
LOCATION:TTZ Marburg
URL:https://www.uni-marburg.de/de/universitaet/administration/verwaltung/s
 tabsstellen/adis/aktuelles/termine/stadt-land-queer
END:VEVENT
BEGIN:VTIMEZONE
TZID:Europe/Berlin
X-LIC-LOCATION:Europe/Berlin
BEGIN:DAYLIGHT
DTSTART:20250330T030000
TZNAME:CEST
TZOFFSETFROM:+0100
TZOFFSETTO:+0200
END:DAYLIGHT
END:VTIMEZONE
END:VCALENDAR
