BEGIN:VCALENDAR
VERSION:2.0
PRODID:-//Plone.org//NONSGML plone.app.event//EN
X-WR-TIMEZONE:Europe/Berlin
BEGIN:VEVENT
SUMMARY:STUBE Winterakademie "Trandition? Transformation! Geschlecht\, Fam
 ilie und queere Perspektiven"
DTSTART;TZID=Europe/Berlin:20260225T173000
DTEND;TZID=Europe/Berlin:20260301T123000
DTSTAMP:20260426T053122Z
UID:89ab5554c2444155bba636579955c82b@www.uni-marburg.de
CREATED:20260129T133710Z
DESCRIPTION:https://www.uni-marburg.de/de/universitaet/administration/verw
 altung/stabsstellen/adis/aktuelles/termine/stube-winterakademie-trandition
 -transformation-geschlecht-familie-und-queere-perspektiven\n
LAST-MODIFIED:20260129T133719Z
LOCATION:Wiesbaden
URL:https://www.uni-marburg.de/de/universitaet/administration/verwaltung/s
 tabsstellen/adis/aktuelles/termine/stube-winterakademie-trandition-transfo
 rmation-geschlecht-familie-und-queere-perspektiven
END:VEVENT
BEGIN:VTIMEZONE
TZID:Europe/Berlin
X-LIC-LOCATION:Europe/Berlin
BEGIN:STANDARD
DTSTART:20251026T020000
TZNAME:CET
TZOFFSETFROM:+0200
TZOFFSETTO:+0100
END:STANDARD
END:VTIMEZONE
END:VCALENDAR
