BEGIN:VCALENDAR
VERSION:2.0
PRODID:-//Plone.org//NONSGML plone.app.event//EN
X-WR-TIMEZONE:Europe/Berlin
BEGIN:VEVENT
SUMMARY:Studienfinanzierung durch BAföG: Was du wissen musst!
DTSTART;TZID=Europe/Berlin:20250324T183000
DTEND;TZID=Europe/Berlin:20250324T200000
DTSTAMP:20260425T152725Z
UID:ec75ef46d96446d0aadc191a872185c3@www.uni-marburg.de
CREATED:20250305T130213Z
DESCRIPTION:https://www.uni-marburg.de/de/universitaet/administration/verw
 altung/stabsstellen/adis/aktuelles/termine/studienfinanzierung-durch-bafoe
 g-was-du-wissen-musst\nEine Onlinereihe zu Möglichkeiten der Studienfinan
 zierung von ArbeiterKind.de
LAST-MODIFIED:20250305T130219Z
LOCATION:Online via Zoom
URL:https://www.uni-marburg.de/de/universitaet/administration/verwaltung/s
 tabsstellen/adis/aktuelles/termine/studienfinanzierung-durch-bafoeg-was-du
 -wissen-musst
END:VEVENT
BEGIN:VTIMEZONE
TZID:Europe/Berlin
X-LIC-LOCATION:Europe/Berlin
BEGIN:STANDARD
DTSTART:20241027T020000
TZNAME:CET
TZOFFSETFROM:+0200
TZOFFSETTO:+0100
END:STANDARD
END:VTIMEZONE
END:VCALENDAR
