BEGIN:VCALENDAR
VERSION:2.0
PRODID:-//Plone.org//NONSGML plone.app.event//EN
X-WR-TIMEZONE:Europe/Berlin
BEGIN:VEVENT
SUMMARY:Studieren mit AD(H)S - Teil I + II
DTSTART;TZID=Europe/Berlin:20241029T160000
DTEND;TZID=Europe/Berlin:20241030T190000
DTSTAMP:20260425T020348Z
UID:16deeecf55ba43f5a97d67b39b591527@www.uni-marburg.de
ATTENDEE;CN="Dipl. Psych. Beate Kettemann, ADHS Ambulanz";ROLE=REQ-PARTICI
 PANT:Dipl. Psych. Beate Kettemann, ADHS Ambulanz
CREATED:20241017T104848Z
DESCRIPTION:https://www.uni-marburg.de/de/universitaet/administration/verw
 altung/stabsstellen/adis/aktuelles/termine/studieren-mit-ad-h-s-teil-i-ii\
 n
LAST-MODIFIED:20241017T104926Z
LOCATION:29.10.: Alter Senatssitzungssaal\, Biegenstraße 10\, 1. OG\, 30.
 10.: Neuer Senatssitzungssaal (R. 003) Biegenstr. 12
URL:https://www.uni-marburg.de/de/universitaet/administration/verwaltung/s
 tabsstellen/adis/aktuelles/termine/studieren-mit-ad-h-s-teil-i-ii
END:VEVENT
BEGIN:VTIMEZONE
TZID:Europe/Berlin
X-LIC-LOCATION:Europe/Berlin
BEGIN:STANDARD
DTSTART:20241027T020000
TZNAME:CET
TZOFFSETFROM:+0200
TZOFFSETTO:+0100
END:STANDARD
END:VTIMEZONE
END:VCALENDAR
