BEGIN:VCALENDAR
VERSION:2.0
PRODID:-//Plone.org//NONSGML plone.app.event//EN
X-WR-TIMEZONE:Europe/Berlin
BEGIN:VEVENT
SUMMARY:Tanz - Empowermentworkshop
DTSTART;TZID=Europe/Berlin:20230615T150000
DTEND;TZID=Europe/Berlin:20230615T200000
DTSTAMP:20260424T135953Z
UID:c098967e1336411b82d35232de090982@www.uni-marburg.de
ATTENDEE;CN="Conny Afie ";ROLE=REQ-PARTICIPANT:Conny Afie 
CREATED:20230523T100721Z
DESCRIPTION:https://www.uni-marburg.de/de/universitaet/administration/verw
 altung/stabsstellen/adis/aktuelles/termine/tanz-empowermentworkshop\n
LAST-MODIFIED:20230523T101028Z
LOCATION:Hessisches Landestheater Marburg\, Am Schwanhof 68-72\, 35037 Mar
 burg
URL:https://www.uni-marburg.de/de/universitaet/administration/verwaltung/s
 tabsstellen/adis/aktuelles/termine/tanz-empowermentworkshop
END:VEVENT
BEGIN:VTIMEZONE
TZID:Europe/Berlin
X-LIC-LOCATION:Europe/Berlin
BEGIN:DAYLIGHT
DTSTART:20230326T030000
TZNAME:CEST
TZOFFSETFROM:+0100
TZOFFSETTO:+0200
END:DAYLIGHT
END:VTIMEZONE
END:VCALENDAR
