BEGIN:VCALENDAR
VERSION:2.0
PRODID:-//Plone.org//NONSGML plone.app.event//EN
X-WR-TIMEZONE:Europe/Berlin
BEGIN:VEVENT
SUMMARY:"Thinking in Clouds"
DTSTART;TZID=Europe/Berlin:20260321T190000
DTSTAMP:20260421T231539Z
UID:bde2d7d1519943bcaa00241d4c05b4a9@www.uni-marburg.de
RRULE:FREQ=DAILY;UNTIL=20260322T000000
CATEGORIES:()
CREATED:20260319T124022Z
DESCRIPTION:https://www.uni-marburg.de/de/universitaet/administration/verw
 altung/stabsstellen/adis/aktuelles/termine/thinking-in-clouds\nAbschlussar
 beit von Chris Tina Maria Ulrich (ATW Gießen)
LAST-MODIFIED:20260319T125040Z
LOCATION:TNT\, Aföllerwiesen 3a\, 35039 Marburg
URL:https://www.uni-marburg.de/de/universitaet/administration/verwaltung/s
 tabsstellen/adis/aktuelles/termine/thinking-in-clouds
END:VEVENT
BEGIN:VTIMEZONE
TZID:Europe/Berlin
X-LIC-LOCATION:Europe/Berlin
BEGIN:STANDARD
DTSTART:20251026T020000
TZNAME:CET
TZOFFSETFROM:+0200
TZOFFSETTO:+0100
END:STANDARD
END:VTIMEZONE
END:VCALENDAR
