BEGIN:VCALENDAR
VERSION:2.0
PRODID:-//Plone.org//NONSGML plone.app.event//EN
X-WR-TIMEZONE:Europe/Berlin
BEGIN:VEVENT
SUMMARY:Vielfaltsforum
DTSTART;TZID=Europe/Berlin:20240417T140000
DTEND;TZID=Europe/Berlin:20240417T170000
DTSTAMP:20260424T085331Z
UID:eac9f419e2314fb297b1fec699a5c105@www.uni-marburg.de
CREATED:20240319T162743Z
DESCRIPTION:https://www.uni-marburg.de/de/universitaet/administration/verw
 altung/stabsstellen/adis/aktuelles/termine/vielfaltsforum\n
LAST-MODIFIED:20240319T162803Z
LOCATION:Club Behring\, Bahnhofstraße 7
URL:https://www.uni-marburg.de/de/universitaet/administration/verwaltung/s
 tabsstellen/adis/aktuelles/termine/vielfaltsforum
END:VEVENT
BEGIN:VTIMEZONE
TZID:Europe/Berlin
X-LIC-LOCATION:Europe/Berlin
BEGIN:DAYLIGHT
DTSTART:20240331T030000
TZNAME:CEST
TZOFFSETFROM:+0100
TZOFFSETTO:+0200
END:DAYLIGHT
END:VTIMEZONE
END:VCALENDAR
