BEGIN:VCALENDAR
VERSION:2.0
PRODID:-//Plone.org//NONSGML plone.app.event//EN
X-WR-TIMEZONE:Europe/Berlin
BEGIN:VEVENT
SUMMARY:Vortrag: "Die sogenannte Macht der Bilder – Zensur\, Skandal\, T
 abu"
DTSTART;TZID=Europe/Berlin:20250611T180000
DTSTAMP:20260425T154119Z
UID:256b5743334044ce828c1f7c208092a0@www.uni-marburg.de
ATTENDEE;CN="Prof.in Dr.in em. Susanne von Falkenhausen";ROLE=REQ-PARTICIP
 ANT:Prof.in Dr.in em. Susanne von Falkenhausen
ATTENDEE;CN="Prof. Dr. Hubert Locher";ROLE=REQ-PARTICIPANT:Prof. Dr. Huber
 t Locher
CREATED:20250606T131217Z
DESCRIPTION:https://www.uni-marburg.de/de/universitaet/administration/verw
 altung/stabsstellen/adis/aktuelles/termine/vortrag-die-sogenannte-macht-de
 r-bilder-zensur-skandal-tabu\nProf.in Dr.in em. Susanne von Falkenhausen i
 m Gespräch mit Prof. Dr. Hubert Locher
LAST-MODIFIED:20250606T131224Z
LOCATION:Deutsches Dokumentationszentrum für Kunstgeschichte – Bildarch
 iv Foto Marburg\, Forschungsbau\, Pilgrimstein 14
URL:https://www.uni-marburg.de/de/universitaet/administration/verwaltung/s
 tabsstellen/adis/aktuelles/termine/vortrag-die-sogenannte-macht-der-bilder
 -zensur-skandal-tabu
END:VEVENT
BEGIN:VTIMEZONE
TZID:Europe/Berlin
X-LIC-LOCATION:Europe/Berlin
BEGIN:DAYLIGHT
DTSTART:20250330T030000
TZNAME:CEST
TZOFFSETFROM:+0100
TZOFFSETTO:+0200
END:DAYLIGHT
END:VTIMEZONE
END:VCALENDAR
