BEGIN:VCALENDAR
VERSION:2.0
PRODID:-//Plone.org//NONSGML plone.app.event//EN
X-WR-TIMEZONE:Europe/Berlin
BEGIN:VEVENT
SUMMARY:Fakten und Mythen zum Neutralitätsgebot: Orientierung und Handlun
 gsoptionen für demokratiepolitische Positionierungen in der hoch-/schulis
 chen Lehre
DTSTART;TZID=Europe/Berlin:20250319T163000
DTSTAMP:20260425T154047Z
UID:7d474181b949495d8c3e05138f4377f1@www.uni-marburg.de
ATTENDEE;CN="Elina Stock";ROLE=REQ-PARTICIPANT:Elina Stock
CREATED:20250313T091742Z
DESCRIPTION:https://www.uni-marburg.de/de/universitaet/administration/verw
 altung/stabsstellen/adis/aktuelles/termine/vortrag-neutralitaetsgebot-an-h
 ochschulen\n
LAST-MODIFIED:20250313T151627Z
LOCATION:Zoom (Online)
URL:https://www.uni-marburg.de/de/universitaet/administration/verwaltung/s
 tabsstellen/adis/aktuelles/termine/vortrag-neutralitaetsgebot-an-hochschul
 en
END:VEVENT
BEGIN:VTIMEZONE
TZID:Europe/Berlin
X-LIC-LOCATION:Europe/Berlin
BEGIN:STANDARD
DTSTART:20241027T020000
TZNAME:CET
TZOFFSETFROM:+0200
TZOFFSETTO:+0100
END:STANDARD
END:VTIMEZONE
END:VCALENDAR
