BEGIN:VCALENDAR
VERSION:2.0
PRODID:-//Plone.org//NONSGML plone.app.event//EN
X-WR-TIMEZONE:Europe/Berlin
BEGIN:VEVENT
SUMMARY:RING FREI! Sprache und Wertevermittlung als Schauplätze politisch
 er Auseinandersetzungen
DTSTART;TZID=Europe/Berlin:20250325T180000
DTEND;TZID=Europe/Berlin:20250325T200000
DTSTAMP:20260425T215441Z
UID:7bc3033d797b45e6ada3ad654c959396@www.uni-marburg.de
ATTENDEE;CN="Tina Breidenich und Latisha Mc Donald";ROLE=REQ-PARTICIPANT:T
 ina Breidenich und Latisha Mc Donald
CREATED:20250313T094514Z
DESCRIPTION:https://www.uni-marburg.de/de/universitaet/administration/verw
 altung/stabsstellen/adis/aktuelles/termine/vortrag-sprache-und-wertevermit
 tlung-als-schauplaetze-politischer-auseinandersetzung\n
LAST-MODIFIED:20250313T094540Z
LOCATION:Saalbau Gallus\, Mart-Stam-Raum\, Frankenallee 111\, 60326 Frankf
 urt am Main
URL:https://www.uni-marburg.de/de/universitaet/administration/verwaltung/s
 tabsstellen/adis/aktuelles/termine/vortrag-sprache-und-wertevermittlung-al
 s-schauplaetze-politischer-auseinandersetzung
END:VEVENT
BEGIN:VTIMEZONE
TZID:Europe/Berlin
X-LIC-LOCATION:Europe/Berlin
BEGIN:STANDARD
DTSTART:20241027T020000
TZNAME:CET
TZOFFSETFROM:+0200
TZOFFSETTO:+0100
END:STANDARD
END:VTIMEZONE
END:VCALENDAR
