BEGIN:VCALENDAR
VERSION:2.0
PRODID:-//Plone.org//NONSGML plone.app.event//EN
X-WR-TIMEZONE:Europe/Berlin
BEGIN:VEVENT
SUMMARY:Vortrag: "Zionismus in Deutschland"
DTSTART;TZID=Europe/Berlin:20260312T190000
DTSTAMP:20260425T154117Z
UID:6e647262ab6f4faa8ee61b54d59a5a8a@www.uni-marburg.de
ATTENDEE;CN="Tibor Luckenbach";ROLE=REQ-PARTICIPANT:Tibor Luckenbach
CREATED:20260122T151745Z
DESCRIPTION:https://www.uni-marburg.de/de/universitaet/administration/verw
 altung/stabsstellen/adis/aktuelles/termine/vortrag-zionismus-in-deutschlan
 d\nVeranstaltung der Vortragsreihe "Zionismus verstehen"
LAST-MODIFIED:20260122T151753Z
LOCATION:Marburger Synagoge (Liebigstraße 21a)
URL:https://www.uni-marburg.de/de/universitaet/administration/verwaltung/s
 tabsstellen/adis/aktuelles/termine/vortrag-zionismus-in-deutschland
END:VEVENT
BEGIN:VTIMEZONE
TZID:Europe/Berlin
X-LIC-LOCATION:Europe/Berlin
BEGIN:STANDARD
DTSTART:20251026T020000
TZNAME:CET
TZOFFSETFROM:+0200
TZOFFSETTO:+0100
END:STANDARD
END:VTIMEZONE
END:VCALENDAR
