BEGIN:VCALENDAR
VERSION:2.0
PRODID:-//Plone.org//NONSGML plone.app.event//EN
X-WR-TIMEZONE:Europe/Berlin
BEGIN:VEVENT
SUMMARY:Wanderausstellung: Mittelhessische Frauen im KZ Ravensbrück
DTSTART;VALUE=DATE:20250228
DTEND;VALUE=DATE:20250331
DTSTAMP:20260426T035530Z
UID:dfcccd052766431684ba7a043220a6ac@www.uni-marburg.de
CREATED:20250305T123343Z
DESCRIPTION:https://www.uni-marburg.de/de/universitaet/administration/verw
 altung/stabsstellen/adis/aktuelles/termine/wanderausstellung-mittelhessisc
 he-frauen-im-kz-ravensbrueck\nAustellung zu Gast im Rathaus Gießen
LAST-MODIFIED:20250305T123357Z
LOCATION:Foyer des Rathauses Gießen
URL:https://www.uni-marburg.de/de/universitaet/administration/verwaltung/s
 tabsstellen/adis/aktuelles/termine/wanderausstellung-mittelhessische-fraue
 n-im-kz-ravensbrueck
END:VEVENT
END:VCALENDAR
