BEGIN:VCALENDAR
VERSION:2.0
PRODID:-//Plone.org//NONSGML plone.app.event//EN
X-WR-TIMEZONE:Europe/Berlin
BEGIN:VEVENT
SUMMARY:Wanderausstellung: Rosa Winkel.
DTSTART;TZID=Europe/Berlin:20250308T160000
DTEND;TZID=Europe/Berlin:20250507T170000
DTSTAMP:20260425T060301Z
UID:2cabd2f90a964dbcbec95623df4d3c73@www.uni-marburg.de
ATTENDEE;CN="Dr. Thomas Spies (OB Stadt Marburg)";ROLE=REQ-PARTICIPANT:Dr.
  Thomas Spies (OB Stadt Marburg)
ATTENDEE;CN="Katharina Völsch (Leitung ADiS)";ROLE=REQ-PARTICIPANT:Kathar
 ina Völsch (Leitung ADiS)
ATTENDEE;CN="Vikrotia Ehrke (Vorständin AStA Marburg)";ROLE=REQ-PARTICIPA
 NT:Vikrotia Ehrke (Vorständin AStA Marburg)
ATTENDEE;CN="Franziska Mendler (Gedenkstätte Buchenwald)";ROLE=REQ-PARTIC
 IPANT:Franziska Mendler (Gedenkstätte Buchenwald)
CREATED:20250305T124822Z
DESCRIPTION:https://www.uni-marburg.de/de/universitaet/administration/verw
 altung/stabsstellen/adis/aktuelles/termine/wanderausstellung-rosa-winkel\n
 Als homosexuell verfolgte Häftlinge in den Konzentrationslagern Buchenwal
 d und Mittelbau-Dora
LAST-MODIFIED:20250320T154040Z
LOCATION:Rathaus Marburg\, Historischer Rathaussaal
URL:https://www.uni-marburg.de/de/universitaet/administration/verwaltung/s
 tabsstellen/adis/aktuelles/termine/wanderausstellung-rosa-winkel
END:VEVENT
BEGIN:VTIMEZONE
TZID:Europe/Berlin
X-LIC-LOCATION:Europe/Berlin
BEGIN:STANDARD
DTSTART:20241027T020000
TZNAME:CET
TZOFFSETFROM:+0200
TZOFFSETTO:+0100
END:STANDARD
BEGIN:DAYLIGHT
DTSTART:20250330T030000
TZNAME:CEST
TZOFFSETFROM:+0100
TZOFFSETTO:+0200
END:DAYLIGHT
END:VTIMEZONE
END:VCALENDAR
