BEGIN:VCALENDAR
VERSION:2.0
PRODID:-//Plone.org//NONSGML plone.app.event//EN
X-WR-TIMEZONE:Europe/Berlin
BEGIN:VEVENT
SUMMARY:Webinar: "Das rechtsautoritäre Playbook und seine Angriffsstrateg
 ien: Erfahrungen aus der Zivilgesellschaft"
DTSTART;TZID=Europe/Berlin:20260423T170000
DTEND;TZID=Europe/Berlin:20260423T183000
DTSTAMP:20260426T035217Z
UID:2778dcaadb2248b9830fdb8163e57daa@www.uni-marburg.de
ATTENDEE;CN="Dr. Marie Wachinger";ROLE=REQ-PARTICIPANT:Dr. Marie Wachinger
CREATED:20260409T132318Z
DESCRIPTION:https://www.uni-marburg.de/de/universitaet/administration/verw
 altung/stabsstellen/adis/aktuelles/termine/webinar-das-rechtsautoritaere-p
 laybook-und-seine-angriffsstrategien-erfahrungen-aus-der-zivilgesellschaft
 \nAus der Vortragsreihe der Initiative Demokratische Wissenschaft (WissDem
 )
LAST-MODIFIED:20260409T132335Z
LOCATION:Online via Zoom
URL:https://www.uni-marburg.de/de/universitaet/administration/verwaltung/s
 tabsstellen/adis/aktuelles/termine/webinar-das-rechtsautoritaere-playbook-
 und-seine-angriffsstrategien-erfahrungen-aus-der-zivilgesellschaft
END:VEVENT
BEGIN:VTIMEZONE
TZID:Europe/Berlin
X-LIC-LOCATION:Europe/Berlin
BEGIN:DAYLIGHT
DTSTART:20260329T030000
TZNAME:CEST
TZOFFSETFROM:+0100
TZOFFSETTO:+0200
END:DAYLIGHT
END:VTIMEZONE
END:VCALENDAR
