BEGIN:VCALENDAR
VERSION:2.0
PRODID:-//Plone.org//NONSGML plone.app.event//EN
X-WR-TIMEZONE:Europe/Berlin
BEGIN:VEVENT
SUMMARY:Webinar: "Gefährdung von Wissenschaftsfreiheit: Angriffe auf Gesc
 hlechter- und Diversitätspolitik an Hochschulen"
DTSTART;TZID=Europe/Berlin:20260527T170000
DTEND;TZID=Europe/Berlin:20260527T183000
DTSTAMP:20260426T001951Z
UID:aa37d8f227594816952ab35f7b13554d@www.uni-marburg.de
ATTENDEE;CN="Dr. Uta Wagner und Anneliese Niehoff (Sprecherinnen der bukof
 -Kommission „Antifeminismus an Hochschulen“)";ROLE=REQ-PARTICIPANT:Dr.
  Uta Wagner und Anneliese Niehoff (Sprecherinnen der bukof-Kommission „A
 ntifeminismus an Hochschulen“)
CREATED:20260409T133833Z
DESCRIPTION:https://www.uni-marburg.de/de/universitaet/administration/verw
 altung/stabsstellen/adis/aktuelles/termine/webinar-gefaehrdung-von-wissens
 chaftsfreiheit-angriffe-auf-geschlechter-und-diversitaetspolitik-an-hochsc
 hulen\nAus der Vortragsreihe der Initiative Demokratische Wissenschaft (Wi
 ssDem)
LAST-MODIFIED:20260409T133842Z
LOCATION:Online via Zoom
URL:https://www.uni-marburg.de/de/universitaet/administration/verwaltung/s
 tabsstellen/adis/aktuelles/termine/webinar-gefaehrdung-von-wissenschaftsfr
 eiheit-angriffe-auf-geschlechter-und-diversitaetspolitik-an-hochschulen
END:VEVENT
BEGIN:VTIMEZONE
TZID:Europe/Berlin
X-LIC-LOCATION:Europe/Berlin
BEGIN:DAYLIGHT
DTSTART:20260329T030000
TZNAME:CEST
TZOFFSETFROM:+0100
TZOFFSETTO:+0200
END:DAYLIGHT
END:VTIMEZONE
END:VCALENDAR
