BEGIN:VCALENDAR
VERSION:2.0
PRODID:-//Plone.org//NONSGML plone.app.event//EN
X-WR-TIMEZONE:Europe/Berlin
BEGIN:VEVENT
SUMMARY:Webinar: "Solidarische Netzwerke zwischen Wissenschaft und Verwalt
 ung"
DTSTART;TZID=Europe/Berlin:20260428T170000
DTEND;TZID=Europe/Berlin:20260428T183000
DTSTAMP:20260425T224135Z
UID:b1534562901a45d48829702813cc583d@www.uni-marburg.de
ATTENDEE;CN="Katharina Völsch (Philipps-Universität Marburg), Peps Gutsc
 he  (Alice Salomon Hochschule Berlin) und Sophie Ebert (Bergische Universi
 tät Wupertal) als Sprecher*innen des Netzwerks Antidiskriminierung an Hoc
 hschulen";ROLE=REQ-PARTICIPANT:Katharina Völsch (Philipps-Universität Ma
 rburg), Peps Gutsche  (Alice Salomon Hochschule Berlin) und Sophie Ebert (
 Bergische Universität Wupertal) als Sprecher*innen des Netzwerks Antidisk
 riminierung an Hochschulen
CREATED:20260409T132627Z
DESCRIPTION:https://www.uni-marburg.de/de/universitaet/administration/verw
 altung/stabsstellen/adis/aktuelles/termine/webinar-solidarische-netzwerke-
 zwischen-wissenschaft-und-verwaltung\nAus der Vortragsreihe der Initiative
  Demokratische Wissenschaft (WissDem)
LAST-MODIFIED:20260409T132636Z
LOCATION:Online via Zoom
URL:https://www.uni-marburg.de/de/universitaet/administration/verwaltung/s
 tabsstellen/adis/aktuelles/termine/webinar-solidarische-netzwerke-zwischen
 -wissenschaft-und-verwaltung
END:VEVENT
BEGIN:VTIMEZONE
TZID:Europe/Berlin
X-LIC-LOCATION:Europe/Berlin
BEGIN:DAYLIGHT
DTSTART:20260329T030000
TZNAME:CEST
TZOFFSETFROM:+0100
TZOFFSETTO:+0200
END:DAYLIGHT
END:VTIMEZONE
END:VCALENDAR
