BEGIN:VCALENDAR
VERSION:2.0
PRODID:-//Plone.org//NONSGML plone.app.event//EN
X-WR-TIMEZONE:Europe/Berlin
BEGIN:VEVENT
SUMMARY:Webinar: "Überprüfung durch den Verfassungsschutz und Extremismu
 sklausel - neue Angriffe auf die Zivilgesellschaft"
DTSTART;TZID=Europe/Berlin:20260521T170000
DTEND;TZID=Europe/Berlin:20260521T183000
DTSTAMP:20260425T214152Z
UID:7a4bda95df924fdbb1112fe172edea05@www.uni-marburg.de
ATTENDEE;CN="Dr. Vivian Kube (Frag den Staat)";ROLE=REQ-PARTICIPANT:Dr. Vi
 vian Kube (Frag den Staat)
CATEGORIES:()
CREATED:20260409T133533Z
DESCRIPTION:https://www.uni-marburg.de/de/universitaet/administration/verw
 altung/stabsstellen/adis/aktuelles/termine/webinar-ueberpruefung-durch-den
 -verfassungsschutz-und-extremismusklausel-neue-angriffe-auf-die-zivilgesel
 lschaft\nAus der Vortragsreihe der Initiative Demokratische Wissenschaft (
 WissDem)
LAST-MODIFIED:20260409T133955Z
LOCATION:Online via Zoom
URL:https://www.uni-marburg.de/de/universitaet/administration/verwaltung/s
 tabsstellen/adis/aktuelles/termine/webinar-ueberpruefung-durch-den-verfass
 ungsschutz-und-extremismusklausel-neue-angriffe-auf-die-zivilgesellschaft
END:VEVENT
BEGIN:VTIMEZONE
TZID:Europe/Berlin
X-LIC-LOCATION:Europe/Berlin
BEGIN:DAYLIGHT
DTSTART:20260329T030000
TZNAME:CEST
TZOFFSETFROM:+0100
TZOFFSETTO:+0200
END:DAYLIGHT
END:VTIMEZONE
END:VCALENDAR
