BEGIN:VCALENDAR
VERSION:2.0
PRODID:-//Plone.org//NONSGML plone.app.event//EN
X-WR-TIMEZONE:Europe/Berlin
BEGIN:VEVENT
SUMMARY:Whistleblowing an Hochschulen – Rechte\, Risiken und Handlungssp
 ielräume
DTSTART;TZID=Europe/Berlin:20260303T170000
DTEND;TZID=Europe/Berlin:20260303T183000
DTSTAMP:20260425T235311Z
UID:468e17139304438ca940d30ff5bb3c9a@www.uni-marburg.de
ATTENDEE;CN="Laura Kuttler von Gesellschaft für Freiheitsrechte e.V.";ROL
 E=REQ-PARTICIPANT:Laura Kuttler von Gesellschaft für Freiheitsrechte e.V.
CREATED:20260212T122256Z
DESCRIPTION:https://www.uni-marburg.de/de/universitaet/administration/verw
 altung/stabsstellen/adis/aktuelles/termine/whistleblowing-an-hochschulen-r
 echte-risiken-und-handlungsspielraeume\nWebinar der Initiative Demokratisc
 he Wissenschaft (WissDem)
LAST-MODIFIED:20260212T122309Z
LOCATION:Online via Zoom
URL:https://www.uni-marburg.de/de/universitaet/administration/verwaltung/s
 tabsstellen/adis/aktuelles/termine/whistleblowing-an-hochschulen-rechte-ri
 siken-und-handlungsspielraeume
END:VEVENT
BEGIN:VTIMEZONE
TZID:Europe/Berlin
X-LIC-LOCATION:Europe/Berlin
BEGIN:STANDARD
DTSTART:20251026T020000
TZNAME:CET
TZOFFSETFROM:+0200
TZOFFSETTO:+0100
END:STANDARD
END:VTIMEZONE
END:VCALENDAR
