BEGIN:VCALENDAR
VERSION:2.0
PRODID:-//Plone.org//NONSGML plone.app.event//EN
X-WR-TIMEZONE:Europe/Berlin
BEGIN:VEVENT
SUMMARY:Widerstand & Widerspruch
DTSTART;TZID=Europe/Berlin:20250626T161500
DTEND;TZID=Europe/Berlin:20250626T190000
DTSTAMP:20260424T224729Z
UID:1e59b9f2b4b74fc89b1edfd7e09c808d@www.uni-marburg.de
ATTENDEE;CN="Schaho Balbas";ROLE=REQ-PARTICIPANT:Schaho Balbas
CREATED:20250611T124900Z
DESCRIPTION:https://www.uni-marburg.de/de/universitaet/administration/verw
 altung/stabsstellen/adis/aktuelles/termine/widerstand-widerspruch\nLiterar
 ische Strategien für politische Resilienz im Angesicht des Rechtsextremis
 mus
LAST-MODIFIED:20250611T125247Z
LOCATION:Bekanntgabe nach Anmeldung unter adis@uni-marburg.de
URL:https://www.uni-marburg.de/de/universitaet/administration/verwaltung/s
 tabsstellen/adis/aktuelles/termine/widerstand-widerspruch
END:VEVENT
BEGIN:VTIMEZONE
TZID:Europe/Berlin
X-LIC-LOCATION:Europe/Berlin
BEGIN:DAYLIGHT
DTSTART:20250330T030000
TZNAME:CEST
TZOFFSETFROM:+0100
TZOFFSETTO:+0200
END:DAYLIGHT
END:VTIMEZONE
END:VCALENDAR
