BEGIN:VCALENDAR
VERSION:2.0
PRODID:-//Plone.org//NONSGML plone.app.event//EN
X-WR-TIMEZONE:Europe/Berlin
BEGIN:VEVENT
SUMMARY:Wo Kritik endet: Israelbezogener Antisemitismus
DTSTART;TZID=Europe/Berlin:20260213T140000
DTEND;TZID=Europe/Berlin:20260213T160000
DTSTAMP:20260425T141928Z
UID:8337045edb3f48bf917a18a8bddb0493@www.uni-marburg.de
ATTENDEE;CN="Anika Schleinzer (Phänomenbereichsübergreifende wissenschaf
 tliche Analysestelle Antisemitismus und Fremdenfeindlichkeit am LfV Hessen
 )";ROLE=REQ-PARTICIPANT:Anika Schleinzer (Phänomenbereichsübergreifende 
 wissenschaftliche Analysestelle Antisemitismus und Fremdenfeindlichkeit am
  LfV Hessen)
CREATED:20260205T131735Z
DESCRIPTION:https://www.uni-marburg.de/de/universitaet/administration/verw
 altung/stabsstellen/adis/aktuelles/termine/wo-kritik-endet-israelbezogener
 -antisemitismus\nOnline-Workshop der Antidiskriminierungsstelle der Hochsc
 hule Darmstadt
LAST-MODIFIED:20260205T131742Z
LOCATION:Online via Zoom
URL:https://www.uni-marburg.de/de/universitaet/administration/verwaltung/s
 tabsstellen/adis/aktuelles/termine/wo-kritik-endet-israelbezogener-antisem
 itismus
END:VEVENT
BEGIN:VTIMEZONE
TZID:Europe/Berlin
X-LIC-LOCATION:Europe/Berlin
BEGIN:STANDARD
DTSTART:20251026T020000
TZNAME:CET
TZOFFSETFROM:+0200
TZOFFSETTO:+0100
END:STANDARD
END:VTIMEZONE
END:VCALENDAR
