BEGIN:VCALENDAR
VERSION:2.0
PRODID:-//Plone.org//NONSGML plone.app.event//EN
X-WR-TIMEZONE:Europe/Berlin
BEGIN:VEVENT
SUMMARY:Workshop "Empowerment für TIN*
DTSTART;TZID=Europe/Berlin:20250625T110000
DTEND;TZID=Europe/Berlin:20250625T170000
DTSTAMP:20260425T012318Z
UID:dfafdc34c1fd4080855260ceebd6a9bb@www.uni-marburg.de
ATTENDEE;CN="Né Fink";ROLE=REQ-PARTICIPANT:Né Fink
CREATED:20250415T091856Z
DESCRIPTION:https://www.uni-marburg.de/de/universitaet/administration/verw
 altung/stabsstellen/adis/aktuelles/termine/workshop-empowerment-fuer-tin-s
 tudierende\n
LAST-MODIFIED:20250514T105647Z
LOCATION:Ort wird nach Anmeldung bekannt gegeben
URL:https://www.uni-marburg.de/de/universitaet/administration/verwaltung/s
 tabsstellen/adis/aktuelles/termine/workshop-empowerment-fuer-tin-studieren
 de
END:VEVENT
BEGIN:VTIMEZONE
TZID:Europe/Berlin
X-LIC-LOCATION:Europe/Berlin
BEGIN:DAYLIGHT
DTSTART:20250330T030000
TZNAME:CEST
TZOFFSETFROM:+0100
TZOFFSETTO:+0200
END:DAYLIGHT
END:VTIMEZONE
END:VCALENDAR
