BEGIN:VCALENDAR
VERSION:2.0
PRODID:-//Plone.org//NONSGML plone.app.event//EN
X-WR-TIMEZONE:Europe/Berlin
BEGIN:VEVENT
SUMMARY:BIPoC Open Mic
DTSTART;TZID=Europe/Berlin:20240415T190000
DTSTAMP:20260425T144646Z
UID:41502f341acb477094f0ae7166f04a38@www.uni-marburg.de
CREATED:20240411T101843Z
DESCRIPTION:https://www.uni-marburg.de/de/universitaet/administration/verw
 altung/stabsstellen/adis/diversitaet/aktuelles/termine/bipoc-open-mic\n
LAST-MODIFIED:20240411T103327Z
LOCATION:Trauma Marburg\, Afföllerwiesen 3a\, 35039 Marburg
URL:https://www.uni-marburg.de/de/universitaet/administration/verwaltung/s
 tabsstellen/adis/diversitaet/aktuelles/termine/bipoc-open-mic
END:VEVENT
BEGIN:VTIMEZONE
TZID:Europe/Berlin
X-LIC-LOCATION:Europe/Berlin
BEGIN:DAYLIGHT
DTSTART:20240331T030000
TZNAME:CEST
TZOFFSETFROM:+0100
TZOFFSETTO:+0200
END:DAYLIGHT
END:VTIMEZONE
END:VCALENDAR
