BEGIN:VCALENDAR
VERSION:2.0
PRODID:-//Plone.org//NONSGML plone.app.event//EN
X-WR-TIMEZONE:Europe/Berlin
BEGIN:VEVENT
SUMMARY:Lesung und Gespräch tofan (sturm)
DTSTART;TZID=Europe/Berlin:20240523T203000
DTEND;TZID=Europe/Berlin:20240523T220000
DTSTAMP:20260425T195808Z
UID:c2ec1ecf9e314a658a6e2108db2d7922@www.uni-marburg.de
CREATED:20240503T082834Z
DESCRIPTION:https://www.uni-marburg.de/de/universitaet/administration/verw
 altung/stabsstellen/adis/diversitaet/aktuelles/termine/lesung-und-gespraec
 h-tofan-sturm\n
LAST-MODIFIED:20240503T083325Z
LOCATION:Café am Grün\, Am Grün 28 - 35037 Marburg
URL:https://www.uni-marburg.de/de/universitaet/administration/verwaltung/s
 tabsstellen/adis/diversitaet/aktuelles/termine/lesung-und-gespraech-tofan-
 sturm
END:VEVENT
BEGIN:VTIMEZONE
TZID:Europe/Berlin
X-LIC-LOCATION:Europe/Berlin
BEGIN:DAYLIGHT
DTSTART:20240331T030000
TZNAME:CEST
TZOFFSETFROM:+0100
TZOFFSETTO:+0200
END:DAYLIGHT
END:VTIMEZONE
END:VCALENDAR
