BEGIN:VCALENDAR
VERSION:2.0
PRODID:-//Plone.org//NONSGML plone.app.event//EN
X-WR-TIMEZONE:Europe/Berlin
BEGIN:VEVENT
SUMMARY:BLINDER FLECK
DTSTART;TZID=Europe/Berlin:20251122T170000
DTSTAMP:20260425T030146Z
UID:f80c069963b349b8a21530cddf4b2782@www.uni-marburg.de
CREATED:20251022T111852Z
DESCRIPTION:https://www.uni-marburg.de/de/universitaet/administration/verw
 altung/stabsstellen/frauen/aktuelles/termine/blinder-fleck\nDokumentations
 film
LAST-MODIFIED:20251022T111943Z
LOCATION:Capitol Marburg
URL:https://www.uni-marburg.de/de/universitaet/administration/verwaltung/s
 tabsstellen/frauen/aktuelles/termine/blinder-fleck
END:VEVENT
BEGIN:VTIMEZONE
TZID:Europe/Berlin
X-LIC-LOCATION:Europe/Berlin
BEGIN:STANDARD
DTSTART:20251026T020000
TZNAME:CET
TZOFFSETFROM:+0200
TZOFFSETTO:+0100
END:STANDARD
END:VTIMEZONE
END:VCALENDAR
